BEGIN:VCALENDAR
VERSION:2.0
PRODID:icalendar-ruby
CALSCALE:GREGORIAN
BEGIN:VEVENT
DTSTAMP:20260425T171846Z
UID:4859f68d-694a-4071-a35e-330ee8fd8147
DTSTART:20261125T093000
DTEND:20261126T170000
LOCATION:Excel London - Royal Victoria Dock\, 1 Western Gateway\, London\, 
 E16 1XL
SUMMARY:London Build Expo
URL:https://hgvtraders.com/events/london-build-expo-november-2026
END:VEVENT
BEGIN:VEVENT
DTSTAMP:20260425T171846Z
UID:34b26f31-02e5-44b2-bb0b-676d3254a839
DTSTART:20260630T100000
DTEND:20260702T160000
LOCATION:NAEC\, Stoneleigh\, Warwickshire\, CV8 2LH
SUMMARY:RTX Stoneleigh
URL:https://hgvtraders.com/events/rtx-stoneleigh-june-2026
END:VEVENT
BEGIN:VEVENT
DTSTAMP:20260425T171846Z
UID:dd57dd03-105a-41b8-ba4e-1812668cb0b4
DTSTART:20261118T090000
DTEND:20261119T150000
LOCATION:SEC Centre\, Exhibition Way\, Glasgow\, G3 8YW
SUMMARY:RTX Scotland
URL:https://hgvtraders.com/events/rtx-scotland-november-2026
END:VEVENT
BEGIN:VEVENT
DTSTAMP:20260425T171846Z
UID:560de7be-6ace-45d0-b13e-d9406c03ff9c
DTSTART:20260502T100000
DTEND:20260503T170000
LOCATION:Lincolnshire Showground\, Lincoln\, LN2 2NA
SUMMARY:Truckfest Lincoln
URL:https://hgvtraders.com/events/truckfest-lincoln-may-2026
END:VEVENT
BEGIN:VEVENT
DTSTAMP:20260425T171846Z
UID:da7fc93b-63ac-41d8-b904-9a30c7e3cda2
DTSTART:20260530T100000
DTEND:20260531T170000
LOCATION:Wolsingham Showground\, Wolsingham\, Bishop Auckland\, DL13 3JF
SUMMARY:Truckfest North East
URL:https://hgvtraders.com/events/truckfest-north-east-may-2026
END:VEVENT
BEGIN:VEVENT
DTSTAMP:20260425T171846Z
UID:8fb5050d-e789-44ea-a0a9-17e0f9073214
DTSTART:20260613T100000
DTEND:20260614T170000
LOCATION:Newbury Showground\, Thatcham\, RG18 9QZ
SUMMARY:Truckfest South
URL:https://hgvtraders.com/events/truckfest-south-june-2026
END:VEVENT
BEGIN:VEVENT
DTSTAMP:20260425T171846Z
UID:ead11b6c-a93e-411b-b729-1663f788e7e0
DTSTART:20260704T100000
DTEND:20260705T170000
LOCATION:Three Counties Showground\, Malvern\, Worcestershire\, WR13 6NW
SUMMARY:Truckfest West Midlands
URL:https://hgvtraders.com/events/truckfest-west-midlands-july-2026
END:VEVENT
BEGIN:VEVENT
DTSTAMP:20260425T171846Z
UID:4d70a251-8643-428b-b78d-7952e4140c75
DTSTART:20260801T100000
DTEND:20260802T170000
LOCATION:The Royal Highland Centre\, Ingliston\, Edinburgh\, EH28 8NB
SUMMARY:Truckfest Scotland
URL:https://hgvtraders.com/events/truckfest-scotland-august-2026
END:VEVENT
BEGIN:VEVENT
DTSTAMP:20260425T171846Z
UID:9b3557ae-b2d9-45db-af19-0c8a1f8c6efd
DTSTART:20260822T100000
DTEND:20260823T170000
LOCATION:Mallory Park Circuit\, Kirkby Mallory\, Leicestershire\, LE9 7QE
SUMMARY:Truckfest East Midlands
URL:https://hgvtraders.com/events/truckfest-east-midlands-august-2026
END:VEVENT
BEGIN:VEVENT
DTSTAMP:20260425T171846Z
UID:36d1e427-f350-4578-8d96-e04978fb97e6
DTSTART:20260829T100000
DTEND:20260830T170000
LOCATION:The Showground\, Shepton\, Mallet\, BA4 6QN
SUMMARY:Truckfest South West
URL:https://hgvtraders.com/events/truckfest-south-west-august-2026
END:VEVENT
BEGIN:VEVENT
DTSTAMP:20260425T171846Z
UID:b7a89fbd-0933-4dd0-a715-2676089e7250
DTSTART:20260912T100000
DTEND:20260913T170000
LOCATION:Cheshire Showground\, Flittogate Lane\, Tabley\, Knutsford\, Chesh
 ire\, WA16 0HJ
SUMMARY:Truckfest North West
URL:https://hgvtraders.com/events/truckfest-north-west-september-2026
END:VEVENT
BEGIN:VEVENT
DTSTAMP:20260425T171846Z
UID:125c1455-bceb-47a5-86e4-cb9a8280e250
DTSTART:20261003T100000
DTEND:20261004T170000
LOCATION:Newark & Notts Showground\, Lincoln Road\, Newark-on-Trent\, Notti
 nghamshire\, NG24 2NY
SUMMARY:Truckfest Original 
URL:https://hgvtraders.com/events/truckfest-original-october-2026
END:VEVENT
BEGIN:VEVENT
DTSTAMP:20260425T171846Z
UID:f5159443-02f3-4cdf-9c0a-85fe2e0640bf
DTSTART:20260922T100000
DTEND:20260923T173000
LOCATION:ICC Wales\, Coldra Wood\, Caerleon\, Newport\, NP18 1DE
SUMMARY:Cenex Expo
URL:https://hgvtraders.com/events/cenex-expo-september-2026
END:VEVENT
BEGIN:VEVENT
DTSTAMP:20260425T171846Z
UID:82e31f60-eec9-4f19-9285-2c11c6550b64
DTSTART:20260630T110000
DTEND:20260702T160000
LOCATION:NEC Birmingham\, Birmingham\, West Midlands\, B40 INT
SUMMARY:Multimodal
URL:https://hgvtraders.com/events/multimodal-june-2026
END:VEVENT
BEGIN:VEVENT
DTSTAMP:20260425T171846Z
UID:847854f6-08da-4b8e-b198-24de29e87f8d
DTSTART:20260907T110000
DTEND:20260911T170000
LOCATION:226 High Road\, Loughton\, Essex\, IG10 1ET
SUMMARY:GREENFLEET
URL:https://hgvtraders.com/events/greenfleet-september-2026
END:VEVENT
BEGIN:VEVENT
DTSTAMP:20260425T171846Z
UID:44bd1051-edb2-400b-979e-3f2dc82e5fec
DTSTART:20260701T110000
DTEND:20260701T180000
LOCATION:Queen Elizabeth II Centre\, Queen Elizabeth II Centre Broad Sanctu
 ary\, London\, SW1P 3EE
SUMMARY:The British Vehicle Rental and Leasing Association (BVRLA)
URL:https://hgvtraders.com/events/the-british-vehicle-rental-and-leasing-as
 sociation-bvrla-july-2026
END:VEVENT
BEGIN:VEVENT
DTSTAMP:20260425T171846Z
UID:2e645674-3c93-470b-ac67-d38b1c13d9d0
DTSTART:20261007T103000
DTEND:20261008T170000
LOCATION: The NEC (National Exhibition Centre)\, North Ave\, Marston Green\
 , Birmingham\, B40 1NT
SUMMARY:Fleet & Mobility Live
URL:https://hgvtraders.com/events/fleet-mobility-live-october-2026
END:VEVENT
BEGIN:VEVENT
DTSTAMP:20260425T171846Z
UID:3b7b3cc3-9b13-4950-a109-16c1400b68ed
DTSTART:20260601T100000
DTEND:20260602T180000
LOCATION:Hilton Manchester Deansgate\, 303 Deansgate\, Manchester\, M3 4LQ
SUMMARY:The Fleet Summit
URL:https://hgvtraders.com/events/the-fleet-summit-june-2026
END:VEVENT
BEGIN:VEVENT
DTSTAMP:20260425T171846Z
UID:33d4d148-4563-4ee0-84b0-8f31f0217c35
DTSTART:20260610T093000
DTEND:20260611T170000
LOCATION:UTAC Millbrook\, Bedford\, MK45 2JH
SUMMARY:Company Car In Action
URL:https://hgvtraders.com/events/company-car-in-action-june-2026
END:VEVENT
BEGIN:VEVENT
DTSTAMP:20260425T171846Z
UID:99b87482-4bfb-45df-8bf3-06f73a3271e4
DTSTART:20260922T100000
DTEND:20260924T180000
LOCATION:The NEC\, Birmingham\, 
SUMMARY:EVCHARGE LIVE UK
URL:https://hgvtraders.com/events/evcharge-live-uk-september-2026
END:VEVENT
BEGIN:VEVENT
DTSTAMP:20260425T171846Z
UID:c6986082-9ee5-41e2-9148-147a5aae4bb6
DTSTART:20261203T100000
DTEND:20261203T180000
LOCATION:Hilton London Bankside\, 2-8 Great Suffolk Street\, London\, SE1 0
 UG
SUMMARY:What Van Awards
URL:https://hgvtraders.com/events/what-van-awards-december-2026
END:VEVENT
BEGIN:VEVENT
DTSTAMP:20260425T171846Z
UID:317859f8-5be9-46fe-8d3a-d63df4be537d
DTSTART:20260916T100000
DTEND:20260917T170000
LOCATION:NEC Birmingham\, Hall 5\, B40 1NT
SUMMARY:The Emergency Services Show
URL:https://hgvtraders.com/events/the-emergency-services-show-september-202
 6
END:VEVENT
BEGIN:VEVENT
DTSTAMP:20260425T171846Z
UID:3bfb6c25-8fed-4a13-9893-083f4ff2e601
DTSTART:20260508T100000
DTEND:20260509T170000
LOCATION:Great Yorkshire Events Centre\, Great Yorkshire Showground\, Harro
 gate\, HG2 8NZ
SUMMARY:Everything Electric NORTH
URL:https://hgvtraders.com/events/everything-electric-north-may-2026
END:VEVENT
BEGIN:VEVENT
DTSTAMP:20260425T171846Z
UID:f5151e7e-9059-43e0-aacf-822934957f62
DTSTART:20260612T100000
DTEND:20260613T170000
LOCATION:Cheltenham Racecourse\, Evesham Rd\, Cheltenham\, Gloucestershire\
 , GL50 4SH
SUMMARY:Everything Electric WEST
URL:https://hgvtraders.com/events/everything-electric-west-june-2026
END:VEVENT
BEGIN:VEVENT
DTSTAMP:20260425T171846Z
UID:80a9e18a-ff46-489e-a0ea-44fad5d16f1b
DTSTART:20260911T100000
DTEND:20260912T170000
LOCATION:Twickenham Allianz Stadium\, 200 Whitton Road\, Twickenham\, TW2 7
 BA
SUMMARY:Everything Electric GREATER LONDON
URL:https://hgvtraders.com/events/everything-electric-greater-london-septem
 ber-2026
END:VEVENT
BEGIN:VEVENT
DTSTAMP:20260425T171846Z
UID:676ade54-7688-4c79-8ed3-35e129f79b88
DTSTART:20260909T103000
DTEND:20261010T173000
LOCATION: Stoneleigh Park\, Kenilworth\, Stoneleigh\, England\, CV8 2LZ
SUMMARY:Professional Recovery Tow Show
URL:https://hgvtraders.com/events/professional-recovery-tow-show-september-
 2026
END:VEVENT
BEGIN:VEVENT
DTSTAMP:20260425T171846Z
UID:9ec4f759-3c33-4ee6-b8ec-a52b202d888d
DTSTART:20260909T110000
DTEND:20260910T170000
LOCATION:Newark Showground\, Nottinghamshire\, NG24 2NY
SUMMARY:Vertikal Days
URL:https://hgvtraders.com/events/vertikal-days-september-2026
END:VEVENT
BEGIN:VEVENT
DTSTAMP:20260425T171846Z
UID:e69b95f2-05ff-4249-a289-ca71775901f9
DTSTART:20260828T100000
DTEND:20260830T190000
LOCATION:SILVERSTONE CIRCUIT\, TOWCESTER\, NORTHAMPTONSHIRE\, NN12 8TN
SUMMARY:CarFest
URL:https://hgvtraders.com/events/carfest-august-2026
END:VEVENT
BEGIN:VEVENT
DTSTAMP:20260425T171846Z
UID:102f4ab5-1829-43cf-bb17-f30a855d40b4
DTSTART:20260805T150000
DTEND:20260806T220000
LOCATION:Mannsfield Showground\, Muir of Ord\, Ross-shire\, IV6 7QT
SUMMARY:Black Isle Farmers Society
URL:https://hgvtraders.com/events/black-isle-farmers-society-august-2026
END:VEVENT
BEGIN:VEVENT
DTSTAMP:20260425T171846Z
UID:8102fc49-506e-41e8-8cb8-575c7a9cf7af
DTSTART:20260707T100000
DTEND:20260708T170000
LOCATION:THE INTERNATIONAL CENTRE\, St Quentin Gate\, Telford\, Shropshire\
 , TF3 4JH
SUMMARY:The Emergency Fleet Exhibition
URL:https://hgvtraders.com/events/the-emergency-fleet-exhibition-july-2026
END:VEVENT
BEGIN:VEVENT
DTSTAMP:20260425T171846Z
UID:e8d16d6c-3718-4e15-a2e9-753d7b2afc5c
DTSTART:20260915T100000
DTEND:20260920T170000
LOCATION:Deutsche Messe AG\, Exhibition Center 30521 Hannover Hanover \, Ge
 rmany\, 
SUMMARY:IAA TRANSPORTATION
URL:https://hgvtraders.com/events/iaa-transportation-september-2026
END:VEVENT
BEGIN:VEVENT
DTSTAMP:20260425T171846Z
UID:e3e9e485-e849-485e-ac09-4aed55cf97f2
DTSTART:20260609T100000
DTEND:20260611T160000
LOCATION:Messe Stuttgart\, Messepiazza 1\, 70629 Stuttgart\, 
SUMMARY:Electric & Hybrid Vehicle Technology Expo
URL:https://hgvtraders.com/events/electric-hybrid-vehicle-technology-expo-j
 une-2026
END:VEVENT
BEGIN:VEVENT
DTSTAMP:20260425T171846Z
UID:63e4c846-6ba8-4c08-9da1-2eddc00b1651
DTSTART:20260513T093000
DTEND:20260514T170000
LOCATION:SEC\, Exhibition Way\, Glasgow\, G3 8YW
SUMMARY:All-Energy
URL:https://hgvtraders.com/events/all-energy-may-2026
END:VEVENT
BEGIN:VEVENT
DTSTAMP:20260425T171846Z
UID:53208876-ab41-47de-812c-5989ff3a488e
DTSTART:20261006T103000
DTEND:20261007T173000
LOCATION:The Association of Fleet Professionals Limited\, Administration Ce
 ntre\, PO Box 466\, Knutsford\, WA16 1GH
SUMMARY:The Association of Fleet Professionals (AFP)
URL:https://hgvtraders.com/events/the-association-of-fleet-professionals-af
 p-october-2026
END:VEVENT
BEGIN:VEVENT
DTSTAMP:20260425T171846Z
UID:bf819cff-4ff7-467a-9c89-e78f83f5dc57
DTSTART:20260616T110000
DTEND:20260616T180000
LOCATION:Dynamic Earth\, 112–116 Holyrood Road\, Edinburgh\, EH8 8AS
SUMMARY:Net Zero Scotland Projects Conference
URL:https://hgvtraders.com/events/net-zero-scotland-projects-conference-jun
 e-2026
END:VEVENT
BEGIN:VEVENT
DTSTAMP:20260425T171846Z
UID:0cdcd893-4a03-4f6b-9f36-04f653e35ceb
DTSTART:20260808T083000
DTEND:20260809T180000
LOCATION:Donington Park\, Castle Donington\, Derby\, DE74 2RP
SUMMARY:Convoy in the Park
URL:https://hgvtraders.com/events/convoy-in-the-park-august-2026
END:VEVENT
BEGIN:VEVENT
DTSTAMP:20260425T171846Z
UID:bb9cb05c-66b3-4e17-b457-fc6c5a720ab2
DTSTART:20260516T110000
DTEND:20260517T180000
LOCATION:Thruxton Circuit\, Andover\, Hampshire\, SP11 8PN
SUMMARY:Thruxton Circuit - BTRC
URL:https://hgvtraders.com/events/thruxton-circuit-btrc-may-2026
END:VEVENT
BEGIN:VEVENT
DTSTAMP:20260425T171846Z
UID:96418e0a-8c37-4d5b-88bf-ae1ee987feb6
DTSTART:20260922T103000
DTEND:20260924T170000
LOCATION:The NEC\, Pendigo Way\, Marston Green\, Birmingham\, B40 1NT
SUMMARY:Solar & Storage Live UK
URL:https://hgvtraders.com/events/solar-storage-live-uk-september-2026
END:VEVENT
BEGIN:VEVENT
DTSTAMP:20260425T171846Z
UID:9ac6ce89-dbbb-408f-a135-ac9b4351fd55
DTSTART:20261103T093000
DTEND:20261105T170000
LOCATION:NEC Birmingham\, BIRMINGHAM\, 
SUMMARY:Euro Bus Expo
URL:https://hgvtraders.com/events/euro-bus-expo-november-2026
END:VEVENT
BEGIN:VEVENT
DTSTAMP:20260425T171846Z
UID:a2419a55-b2cf-431d-b1d3-411f3b1c591e
DTSTART:20261117T100000
DTEND:20261118T170000
LOCATION:NAEC Stoneleigh\, Stoneleigh\, Kenilworth\, Coventry\, CV8 2LZ
SUMMARY:The Movers & Storers Show
URL:https://hgvtraders.com/events/the-movers-storers-show-november-2026
END:VEVENT
BEGIN:VEVENT
DTSTAMP:20260425T171846Z
UID:bced6b20-bb67-43ca-bc50-5b550fc8552a
DTSTART:20261118T100000
DTEND:20261119T170000
LOCATION:Excel London\, \, 
SUMMARY:London EV Show
URL:https://hgvtraders.com/events/london-ev-show-november-2026
END:VEVENT
BEGIN:VEVENT
DTSTAMP:20260425T171846Z
UID:1f9c3014-1a25-4729-831c-c6689efbc27d
DTSTART:20260910T110000
DTEND:20260911T180000
LOCATION:Madrid Convention Bureau\, La Nave\, Madrid\, 
SUMMARY:Euro EV Show
URL:https://hgvtraders.com/events/euro-ev-show-september-2026
END:VEVENT
BEGIN:VEVENT
DTSTAMP:20260425T171846Z
UID:210fb32b-a0da-4501-b669-6bd899c367b7
DTSTART:20260708T110000
DTEND:20260709T180000
LOCATION:NEC Birmingham\, North Ave\, Marston Green\, Birmingham\, B40 1NT
SUMMARY:Vehicle Electrification Expo
URL:https://hgvtraders.com/events/vehicle-electrification-expo-july-2026
END:VEVENT
BEGIN:VEVENT
DTSTAMP:20260425T171846Z
UID:6ab7e43f-2e6e-45ab-845c-998f34968e64
DTSTART:20260913T110000
DTEND:20260915T180000
LOCATION:Blenheim Palace\, Woodstock\, Oxfordshire\, OX20 1UL
SUMMARY:EV LIVE AT BLENHEIM PALACE
URL:https://hgvtraders.com/events/ev-live-at-blenheim-palace-september-2026
END:VEVENT
BEGIN:VEVENT
DTSTAMP:20260425T171846Z
UID:351ff8fa-f1fd-4da2-9915-c2b218194200
DTSTART:20261109T000000
DTEND:20261111T200000
LOCATION:Riyadh International Convention & Exhibition Center\, Saudi Arabia
 \, 
SUMMARY:The EV Auto Show
URL:https://hgvtraders.com/events/the-ev-auto-show-november-2026
END:VEVENT
BEGIN:VEVENT
DTSTAMP:20260425T171846Z
UID:d400e15e-6c1e-4c4b-8fb9-30c2e6de45de
DTSTART:20260603T103000
DTEND:20260604T170000
LOCATION:NEC Birmingham (Hall 6)\, North Avenue\, Marston Green\, Birmingha
 m\, B40 1NT
SUMMARY:The UK Garage and Bodyshop Event
URL:https://hgvtraders.com/events/the-uk-garage-and-bodyshop-event-june-202
 6
END:VEVENT
BEGIN:VEVENT
DTSTAMP:20260425T171846Z
UID:851512a2-f1dd-4dba-a013-eaa18b977c2c
DTSTART:20260623T110000
DTEND:20260625T170000
LOCATION:National Exhibition Centre (NEC)\, Hall 3a\, 4 & 5\, Birmingham\, 
 B40 1NT
SUMMARY:InstallerSHOW
URL:https://hgvtraders.com/events/installershow-june-2026
END:VEVENT
BEGIN:VEVENT
DTSTAMP:20260425T171846Z
UID:0f8fcb90-46d9-4d5e-bb9d-3ac9b74ba7e1
DTSTART:20260623T110000
DTEND:20260625T170000
LOCATION:National Exhibition Centre (NEC)\, Hall 3a\, 4 & 5\, Birmingham\, 
 B40 1NT
SUMMARY:InstallerSHOW
URL:https://hgvtraders.com/events/installershow-june-2026-bba56f5d-cc5c-4b5
 1-9388-92dd3b3da5ec
END:VEVENT
BEGIN:VEVENT
DTSTAMP:20260425T171846Z
UID:f2a5c9e9-11b2-4e37-b416-8f316e933ea8
DTSTART:20260623T110000
DTEND:20260625T170000
LOCATION:National Exhibition Centre (NEC)\, Hall 3a\, 4 & 5\, Birmingham\, 
 B40 1NT
SUMMARY:InstallerSHOW
URL:https://hgvtraders.com/events/installershow-june-2026-3332d806-9e4c-417
 d-ae7b-6b3b08760c53
END:VEVENT
BEGIN:VEVENT
DTSTAMP:20260425T171846Z
UID:55eb4a95-7172-48e5-a9b0-3c71c0e5cb04
DTSTART:20260916T103000
DTEND:20260917T170000
LOCATION:NEC Birmingham\, Pendigo Way\, Marston Green\, Birmingham\, B40 1N
 T
SUMMARY:Resources & Waste Management Expo
URL:https://hgvtraders.com/events/resources-waste-management-expo-september
 -2026
END:VEVENT
BEGIN:VEVENT
DTSTAMP:20260425T171846Z
UID:c79dfb10-9e96-44a4-8aae-12ac37e2cf99
DTSTART:20270120T080000
DTEND:20270121T163000
LOCATION:National Exhibition Centre\, Pendigo Way\, Marston Green\, Birming
 ham\, B40 1NT
SUMMARY:The LAMMA Show
URL:https://hgvtraders.com/events/the-lamma-show-january-2027
END:VEVENT
BEGIN:VEVENT
DTSTAMP:20260425T171846Z
UID:f599c92c-3fa2-4289-81f5-36138031fbd9
DTSTART:20261013T103000
DTEND:20261014T170000
LOCATION:Farnborough International Exhibition & Conference Center\, ShowCen
 ter\, Etps Road\, Farnborough\, GU14 6FD
SUMMARY:The Recycling Expo
URL:https://hgvtraders.com/events/the-recycling-expo-october-2026
END:VEVENT
BEGIN:VEVENT
DTSTAMP:20260425T171846Z
UID:c5b6f820-ae3a-4250-bff1-81fc8f41f1e7
DTSTART:20260618T080000
DTEND:20260621T190000
LOCATION:Royal Highland Centre\, Edinburgh\, EH28 8NB
SUMMARY:Royal Highland Show
URL:https://hgvtraders.com/events/royal-highland-show-june-2026
END:VEVENT
BEGIN:VEVENT
DTSTAMP:20260425T171846Z
UID:dc991764-8c3a-4f58-95a4-b5529865b4bb
DTSTART:20260623T100000
DTEND:20260625T170000
LOCATION:Hillhead Quarry\, Harpur Hill\, Nr Buxton\, Derbyshire\, SK17 9PR
SUMMARY:Hillhead
URL:https://hgvtraders.com/events/hillhead-june-2026
END:VEVENT
BEGIN:VEVENT
DTSTAMP:20260425T171846Z
UID:c54a02e5-6bf0-4d81-8db7-622cbb6bbac0
DTSTART:20260929T110000
DTEND:20261001T170000
LOCATION:NEC Birmingham\, North Avenue\, Marston Green Birmingham\, B40 1NT
SUMMARY:UK Construction Week Birmingham
URL:https://hgvtraders.com/events/uk-construction-week-birmingham-september
 -2026
END:VEVENT
BEGIN:VEVENT
DTSTAMP:20260425T171846Z
UID:d6fab320-0bd8-4d1a-96ec-0e21ee32deff
DTSTART:20260512T110000
DTEND:20260204T160000
LOCATION:ExCeL London\, Royal Victoria Dock\,  1 Western Gateway London\, E
 16 1XL
SUMMARY:UK Construction Week London
URL:https://hgvtraders.com/events/uk-construction-week-london-may-2026
END:VEVENT
BEGIN:VEVENT
DTSTAMP:20260425T171846Z
UID:8e3ca0f0-190e-4cf6-a179-f85969e57519
DTSTART:20261125T100000
DTEND:20261126T160000
LOCATION:Excel London\, Royal Victoria Dock\, 1 Western Gateway\, London\, 
 E16 1XL
SUMMARY:National Civils Show
URL:https://hgvtraders.com/events/national-civils-show-november-2026
END:VEVENT
BEGIN:VEVENT
DTSTAMP:20260425T171846Z
UID:007aae43-c8f7-4b3b-b498-526a775ceba3
DTSTART:20260603T103000
DTEND:20260604T173000
LOCATION:NEC Birmingham\, Hall 3A\, North Avenue\, Birmingham\, B40 1NT
SUMMARY:Subcon
URL:https://hgvtraders.com/events/subcon-june-2026
END:VEVENT
BEGIN:VEVENT
DTSTAMP:20260425T171846Z
UID:65a5ee15-bbb8-4487-bf02-ca7c8d1d1c7a
DTSTART:20261104T090000
DTEND:20261105T160000
LOCATION:NEC Birmingham\, Halls 3 & 3a\, 
SUMMARY:Advanced Engineering
URL:https://hgvtraders.com/events/advanced-engineering-november-2026
END:VEVENT
BEGIN:VEVENT
DTSTAMP:20260425T171846Z
UID:93f07118-ddd8-4f14-a8d7-cfdab81a5ac4
DTSTART:20260909T190000
DTEND:20260910T000000
LOCATION:Grosvenor House Hotel\, Park Lane\, London\, W1K 7TN
SUMMARY:Motor Transport Awards
URL:https://hgvtraders.com/events/motor-transport-awards-september-2026
END:VEVENT
BEGIN:VEVENT
DTSTAMP:20260425T171846Z
UID:ecc91c09-98ef-4f35-91a5-f1191728a614
DTSTART:20270914T103000
DTEND:20270916T170000
LOCATION:NEC Birmingham\, Hall 5\, Pendigo Way\, Marston Green\,\, B40 1PP
SUMMARY:International Materials Handling Exhibition
URL:https://hgvtraders.com/events/international-materials-handling-exhibiti
 on-september-2027
END:VEVENT
BEGIN:VEVENT
DTSTAMP:20260425T171846Z
UID:86ee8f64-6e15-4038-a138-fee94796ca06
DTSTART:20260630T110000
DTEND:20260701T170000
LOCATION:NEC Birmingham\, Pendigo Way\, Marston Green\, Birmingham\, B40 1N
 T
SUMMARY:Warehouse. & Yard
URL:https://hgvtraders.com/events/warehouse-yard-june-2026
END:VEVENT
BEGIN:VEVENT
DTSTAMP:20260425T171846Z
UID:f523db1b-bff5-4dbc-8bbc-96c6e69283a1
DTSTART:20260630T100000
DTEND:20260702T180000
LOCATION:NEC Birmingham\, Pendigo Way\, Marston Green\, Birmingham\, B40 1N
 T
SUMMARY:eDelivery Expo
URL:https://hgvtraders.com/events/edelivery-expo-june-2026
END:VEVENT
BEGIN:VEVENT
DTSTAMP:20260425T171846Z
UID:838f2d32-d1b6-4072-ac6f-159cf1d44387
DTSTART:20261013T110000
DTEND:20260918T190000
LOCATION:NEC\, Birmingham\, B40 1NT
SUMMARY:Motorhome and Caravan Show
URL:https://hgvtraders.com/events/motorhome-and-caravan-show-october-2026
END:VEVENT
BEGIN:VEVENT
DTSTAMP:20260425T171846Z
UID:ce61a8c4-32d0-4ca4-82db-414cc6f2cfb6
DTSTART:20260603T100000
DTEND:20260603T180000
LOCATION:QEII Centre\, Broad Sanctuary\, Westminster\, London\, SW1P 3EE
SUMMARY:Logistics UK Annual Conference 2026
URL:https://hgvtraders.com/events/logistics-uk-annual-conference-2026-june-
 2026
END:VEVENT
BEGIN:VEVENT
DTSTAMP:20260425T171846Z
UID:aa023f90-15bd-4a4c-8abd-d5ea8953104d
DTSTART:20260924T110000
DTEND:20260924T190000
LOCATION:East Midlands conference centre\, \, 
SUMMARY:The Chartered Institute of Logistics and Transport
URL:https://hgvtraders.com/events/the-chartered-institute-of-logistics-and-
 transport-september-2026
END:VEVENT
END:VCALENDAR
